BEGIN:VCALENDAR
VERSION:2.0
PRODID:-//Singing Trooper - ECPv4.7.3//NONSGML v1.0//EN
CALSCALE:GREGORIAN
METHOD:PUBLISH
X-WR-CALNAME:Singing Trooper
X-ORIGINAL-URL:https://www.thesingingtrooper.com
X-WR-CALDESC:Events for Singing Trooper
BEGIN:VEVENT
DTSTART;TZID=America/New_York:20190514T120000
DTEND;TZID=America/New_York:20190514T150000
DTSTAMP:20260421T162508
CREATED:20190503T120315Z
LAST-MODIFIED:20190503T120315Z
UID:727-1557835200-1557846000@www.thesingingtrooper.com
SUMMARY:Belmont "Beech Street Center"
DESCRIPTION:We are going to have great time! Bring ALL your friends! \n
URL:https://www.thesingingtrooper.com/schedule/belmont-beech-street-center/
LOCATION:Belmont Beech Street Center\, 266 Beech Street\, Belmont\, 02478\, United States
CATEGORIES:Senior Center Performance
END:VEVENT
END:VCALENDAR