BEGIN:VCALENDAR
VERSION:2.0
PRODID:-//Singing Trooper - ECPv4.7.3//NONSGML v1.0//EN
CALSCALE:GREGORIAN
METHOD:PUBLISH
X-WR-CALNAME:Singing Trooper
X-ORIGINAL-URL:https://www.thesingingtrooper.com
X-WR-CALDESC:Events for Singing Trooper
BEGIN:VEVENT
DTSTART;TZID=America/New_York:20190321T140000
DTEND;TZID=America/New_York:20190321T160000
DTSTAMP:20260421T085010
CREATED:20190129T121328Z
LAST-MODIFIED:20190129T121328Z
UID:641-1553176800-1553184000@www.thesingingtrooper.com
SUMMARY:Brookdale Assisted Living
DESCRIPTION:Come out for a great show! \n
URL:https://www.thesingingtrooper.com/schedule/brookdale-assisted-living/
LOCATION:Brookdale Assisted Living\, 391 Common Street\, Dedham\, 02026\, United States
CATEGORIES:Assisted Living
END:VEVENT
END:VCALENDAR