BEGIN:VCALENDAR
VERSION:2.0
PRODID:-//Singing Trooper - ECPv4.7.3//NONSGML v1.0//EN
CALSCALE:GREGORIAN
METHOD:PUBLISH
X-WR-CALNAME:Singing Trooper
X-ORIGINAL-URL:https://www.thesingingtrooper.com
X-WR-CALDESC:Events for Singing Trooper
BEGIN:VEVENT
DTSTART;VALUE=DATE:20230711
DTEND;VALUE=DATE:20230712
DTSTAMP:20260421T085125
CREATED:20230619T113846Z
LAST-MODIFIED:20230619T113846Z
UID:1076-1689033600-1689119999@www.thesingingtrooper.com
SUMMARY:Burlington Summer Concert
DESCRIPTION:Come out and enjoy a wonderful evening with the family at the spacious commons of Burlington for our summer concert performance! Right next to the dramatic display of the Veterans Flag Memorial is the Burlington Gazebo and acres of grass for enjoying a summer evening! Hope to see you there!! \n
URL:https://www.thesingingtrooper.com/schedule/burlington-summer-concert/
LOCATION:Burlington Common\, 29 Center Street\, Burlington\, MA\, 01803\, United States
CATEGORIES:Summer Concert
END:VEVENT
END:VCALENDAR