BEGIN:VCALENDAR
VERSION:2.0
PRODID:-//Singing Trooper - ECPv4.7.3//NONSGML v1.0//EN
CALSCALE:GREGORIAN
METHOD:PUBLISH
X-WR-CALNAME:Singing Trooper
X-ORIGINAL-URL:https://www.thesingingtrooper.com
X-WR-CALDESC:Events for Singing Trooper
BEGIN:VEVENT
DTSTART;TZID=America/New_York:20181206T000000
DTEND;TZID=America/New_York:20181206T235900
DTSTAMP:20260419T200055
CREATED:20181201T064612Z
LAST-MODIFIED:20181201T064646Z
UID:473-1544054400-1544140740@www.thesingingtrooper.com
SUMMARY:Deadham COA -Veterans Breakfast
DESCRIPTION:On Saturday November 10th at 6PM I will be a part of this wonderful event to be held at the LOWELL MEMORIAL AUDITORIUM located at 50 East Merrimack St\, Lowell MA. For tickets and information contact IRONSTONEFARM.ORG. I will be performing a Military and Patriotic Tribute as part of the evenings festivities! \n
URL:https://www.thesingingtrooper.com/schedule/deadham-coa-veterans-breakfast/
LOCATION:Massachusetts\, Maliotis Cultural Center 50 Goddard Ave\, Brookline\, MA\, 02445\, United States
CATEGORIES:Concert
END:VEVENT
END:VCALENDAR