BEGIN:VCALENDAR
VERSION:2.0
PRODID:-//Singing Trooper - ECPv4.7.3//NONSGML v1.0//EN
CALSCALE:GREGORIAN
METHOD:PUBLISH
X-WR-CALNAME:Singing Trooper
X-ORIGINAL-URL:https://www.thesingingtrooper.com
X-WR-CALDESC:Events for Singing Trooper
BEGIN:VEVENT
DTSTART;VALUE=DATE:20190427
DTEND;VALUE=DATE:20190428
DTSTAMP:20260421T132035
CREATED:20190207T124523Z
LAST-MODIFIED:20190207T124523Z
UID:699-1556323200-1556409599@www.thesingingtrooper.com
SUMMARY:Keri McCarthy Annual Fundraiser
DESCRIPTION:A great fundraiser for a great cause! I perform after the banquet! Check the website under EVENTS for all information! \n
URL:https://www.thesingingtrooper.com/schedule/keri-mccarthy-annual-fundraiser/
LOCATION:Anthonys of Malden\, 105 Canal Street\, Malden\, MA\, 02148\, United States
CATEGORIES:Fundraiser
END:VEVENT
END:VCALENDAR