BEGIN:VCALENDAR
VERSION:2.0
PRODID:-//Singing Trooper - ECPv4.7.3//NONSGML v1.0//EN
CALSCALE:GREGORIAN
METHOD:PUBLISH
X-WR-CALNAME:Singing Trooper
X-ORIGINAL-URL:https://www.thesingingtrooper.com
X-WR-CALDESC:Events for Singing Trooper
BEGIN:VEVENT
DTSTART;TZID=America/New_York:20190311T140000
DTEND;TZID=America/New_York:20190311T153000
DTSTAMP:20260421T100304
CREATED:20190206T114730Z
LAST-MODIFIED:20190206T114730Z
UID:680-1552312800-1552318200@www.thesingingtrooper.com
SUMMARY:Keystone Place at Buzzards Bay
DESCRIPTION:This is going to be an Irish Party with all your favorites! Mary and I hope you will join us! \n
URL:https://www.thesingingtrooper.com/schedule/keystone-place-at-buzzards-bay/
LOCATION:Keystone\, 218 Main Street\, Buzzards Bay\, MA\, 02532\, United States
CATEGORIES:Assisted Living,Concert
END:VEVENT
END:VCALENDAR