BEGIN:VCALENDAR
VERSION:2.0
PRODID:-//Singing Trooper - ECPv4.7.3//NONSGML v1.0//EN
CALSCALE:GREGORIAN
METHOD:PUBLISH
X-WR-CALNAME:Singing Trooper
X-ORIGINAL-URL:https://www.thesingingtrooper.com
X-WR-CALDESC:Events for Singing Trooper
BEGIN:VEVENT
DTSTART;VALUE=DATE:20250907
DTEND;VALUE=DATE:20250908
DTSTAMP:20260421T101417
CREATED:20250731T134421Z
LAST-MODIFIED:20250731T134421Z
UID:1660-1757203200-1757289599@www.thesingingtrooper.com
SUMMARY:Private Event
DESCRIPTION:
URL:https://www.thesingingtrooper.com/schedule/private-event-13/
END:VEVENT
END:VCALENDAR