BEGIN:VCALENDAR
VERSION:2.0
PRODID:-//Singing Trooper - ECPv4.7.3//NONSGML v1.0//EN
CALSCALE:GREGORIAN
METHOD:PUBLISH
X-WR-CALNAME:Singing Trooper
X-ORIGINAL-URL:https://www.thesingingtrooper.com
X-WR-CALDESC:Events for Singing Trooper
BEGIN:VEVENT
DTSTART;VALUE=DATE:20240615
DTEND;VALUE=DATE:20240616
DTSTAMP:20260421T084425
CREATED:20240513T111613Z
LAST-MODIFIED:20240513T111613Z
UID:1464-1718409600-1718495999@www.thesingingtrooper.com
SUMMARY:Quincy Flag Day Celebration
DESCRIPTION:The City of Quincy holds it’s historic celebration to the Stars and Stripes with an incredible parade followed by a wonderful program from the City’s leaders and my Patriotic Tribute to our Nation\, her flag\, and the men and women who defend her. This is culminated with an incredible Fireworks Display. Come out to this great celebration and love America again!! Hope to see you there! \n
URL:https://www.thesingingtrooper.com/schedule/quincy-flag-day-celebration-2/
LOCATION:Quincy Pageant Field\, 1 Merrymount Parkway\, Quincy\, 02170\, United States
CATEGORIES:Patriotic with Fireworks
END:VEVENT
END:VCALENDAR