BEGIN:VCALENDAR
VERSION:2.0
PRODID:-//Singing Trooper - ECPv4.7.3//NONSGML v1.0//EN
CALSCALE:GREGORIAN
METHOD:PUBLISH
X-WR-CALNAME:Singing Trooper
X-ORIGINAL-URL:https://www.thesingingtrooper.com
X-WR-CALDESC:Events for Singing Trooper
BEGIN:VEVENT
DTSTART;VALUE=DATE:20190517
DTEND;VALUE=DATE:20190518
DTSTAMP:20260421T180400
CREATED:20190219T120122Z
LAST-MODIFIED:20190219T120122Z
UID:706-1558051200-1558137599@www.thesingingtrooper.com
SUMMARY:State Police Boxing - Fundraiser
DESCRIPTION:Once again I get to join my classmate from the 66th RTT as he produces another great MSP Boxing Event. The proceeds go to help the families of Troopers that have experienced tragedy. It is my honor to help support my brothers and sisters in French and Electric Blue!  ! \n
URL:https://www.thesingingtrooper.com/schedule/state-police-boxing-fundraiser/
LOCATION:Melrose Memorial Hall\, 590 Main Street\, Melrose\, 02176\, United States
CATEGORIES:Fundraiser,Sporting Events
END:VEVENT
END:VCALENDAR