BEGIN:VCALENDAR
VERSION:2.0
PRODID:-//Singing Trooper - ECPv4.7.3//NONSGML v1.0//EN
CALSCALE:GREGORIAN
METHOD:PUBLISH
X-WR-CALNAME:Singing Trooper
X-ORIGINAL-URL:https://www.thesingingtrooper.com
X-WR-CALDESC:Events for Singing Trooper
BEGIN:VEVENT
DTSTART;VALUE=DATE:20190701
DTEND;VALUE=DATE:20190708
DTSTAMP:20260421T085130
CREATED:20190625T132944Z
LAST-MODIFIED:20190625T132944Z
UID:765-1561939200-1562543999@www.thesingingtrooper.com
SUMMARY:USAIGC World Gymnastics Championship
DESCRIPTION:
URL:https://www.thesingingtrooper.com/schedule/usaigc-world-gymnastics-championship/
LOCATION:Gaylord Opryland Resort\, 2800 Opryland Drive\, Nashville\, TN\, 37214\, United States
CATEGORIES:Gymnastics Competition
END:VEVENT
END:VCALENDAR